BEGIN:VCALENDAR
VERSION:2.0
PRODID:-//Acces - ECPv4.9.2//NONSGML v1.0//EN
CALSCALE:GREGORIAN
METHOD:PUBLISH
X-WR-CALNAME:Acces
X-ORIGINAL-URL:https://www.acces-lirabebe.fr
X-WR-CALDESC:Évènements pour Acces
BEGIN:VEVENT
DTSTART;TZID=Europe/Paris:20201020T093000
DTEND;TZID=Europe/Paris:20201020T163000
DTSTAMP:20260420T024358
CREATED:20200527T101400Z
LAST-MODIFIED:20200623T161254Z
UID:5122-1603186200-1603211400@www.acces-lirabebe.fr
SUMMARY:Formation "Lire à des bébés"
DESCRIPTION:Comment lire aux tout-petits ? \nUne formation pour comprendre la place des livres et du récit dans le développement du jeune enfant et penser les conditions favorisant la découverte du livre et du récit. \nUne formation interactive à partir d’exposés théoriques\, de témoignages de professionnels. Vous visionnerez le film documentaire réalisé par A.C.C.E.S. et analyserez les albums préférés des tout-petits . \nLes formations proposées par A.C.C.E.S. s’adressent aux : bibliothécaires\, professionnels de l’enfance\, de l’animation\, de l’éducation et du champ social. \nPour télécharger le programme complet et s’inscrire à la formation \n
URL:https://www.acces-lirabebe.fr/evenement/formation-lire-a-des-bebes-2-2-2-3-3-3/
LOCATION:Paris\, france\, Paris\, France
CATEGORIES:Formation nationale
ATTACH;FMTTYPE=image/jpeg:https://www.acces-lirabebe.fr/wp-content/uploads/2019/05/EVRY_B_9718.jpg
END:VEVENT
END:VCALENDAR